BEGIN:VCALENDAR
VERSION:2.0
PRODID:-//eventon.com NONSGML v1.0//EN
CALSCALE:GREGORIAN
METHOD:PUBLISH
BEGIN:VEVENT
UID:69e8a04cc7653
DTSTAMP:20260422T101748Z
DTSTART:20190725T100000Z
DTEND:20190725T235000Z
LOCATION:La Chapelle-en-Vercors La Chapelle-en-Vercors
SUMMARY:Cérémonies à la Chapelle-en-Vercors
DESCRIPTION:10h : église 10h45 : monument aux morts puis cour des Fusillé
 s\nhttps://www.vercors-resistance.fr/events/ceremonies-a-la-chapelle-en-ver
 cors/
URL:https://www.vercors-resistance.fr/events/ceremonies-a-la-chapelle-en-vercors/
END:VEVENT
END:VCALENDAR