BEGIN:VCALENDAR
VERSION:2.0
PRODID:-//eventon.com NONSGML v1.0//EN
CALSCALE:GREGORIAN
METHOD:PUBLISH
BEGIN:VEVENT
UID:69e8a529cd3bd
DTSTAMP:20260422T103833Z
DTSTART:20190127T101500Z
DTEND:20190127T110000Z
LOCATION:Place Valentin Haüy Place Valentin Haüy
SUMMARY:Cérémonie en hommage à Eugène Chavant
DESCRIPTION:Cérémonie en hommage à Eugène Chavant\nhttps://www.vercors-
 resistance.fr/events/ceremonie-en-hommage-a-eugene-chavant/
URL:https://www.vercors-resistance.fr/events/ceremonie-en-hommage-a-eugene-chavant/
END:VEVENT
END:VCALENDAR