BEGIN:VCALENDAR
VERSION:2.0
PRODID:-//eventon.com NONSGML v1.0//EN
CALSCALE:GREGORIAN
METHOD:PUBLISH
BEGIN:VEVENT
UID:69e5f70eb42e3
DTSTAMP:20260420T095110Z
DTSTART:20191123T090000Z
DTEND:20200518T180000Z
LOCATION:Musée de la résistance et de la déportation 14 rue Hébert\,  38000 Grenoble
SUMMARY:Exposition\,  femmes des années 40
DESCRIPTION:La place accordée aux femmes et le regard qu’on leur porte s
 ont autant d’enjeux qui animent aujourd’hui notre société. Loin de la
  postérité des hommes\,  les femmes et leurs actions ont souvent été ou
 bliées ou peu valorisées\,  notamment dans le récit de la Seconde guerre
  mondiale. Pourtant\,  qu’elles soient résistantes\, [..]\nhttps://www.v
 ercors-resistance.fr/events/exposition-femmes-des-annees-40/
URL:https://www.vercors-resistance.fr/events/exposition-femmes-des-annees-40/
END:VEVENT
END:VCALENDAR