BEGIN:VCALENDAR
VERSION:2.0
PRODID:-//eventon.com NONSGML v1.0//EN
CALSCALE:GREGORIAN
METHOD:PUBLISH
BEGIN:VEVENT
UID:69eaa66486eb7
DTSTAMP:20260423T230820Z
DTSTART:20190703T100000Z
DTEND:20190703T235000Z
LOCATION:Saint-Maurice-en-Trièves Saint-Maurice-en-Trièves
SUMMARY:Commémorations en Trièves
DESCRIPTION:10 heures : Saint-Maurice-en-Trièves 10h30 : col de Lus-la-Cro
 ix-Haute\nhttps://www.vercors-resistance.fr/events/commemorations/
URL:https://www.vercors-resistance.fr/events/commemorations/
END:VEVENT
END:VCALENDAR