BEGIN:VCALENDAR
VERSION:2.0
PRODID:-//eventon.com NONSGML v1.0//EN
CALSCALE:GREGORIAN
METHOD:PUBLISH
BEGIN:VEVENT
UID:69e60cf69943f
DTSTAMP:20260420T112438Z
DTSTART:20210703T200000Z
DTEND:20210704T105000Z
LOCATION:Saint-Jean-en-Royans Place de la poste
SUMMARY:Tour des stèles à la mémoire des victimes du Royans
DESCRIPTION:Tour des stèles à la mémoire des victimes du Royans\nhttps:/
 /www.vercors-resistance.fr/events/tour-des-steles-a-la-memoire-des-victimes
 -du-royans-2/
URL:https://www.vercors-resistance.fr/events/tour-des-steles-a-la-memoire-des-victimes-du-royans-2/
END:VEVENT
END:VCALENDAR