BEGIN:VCALENDAR
VERSION:2.0
PRODID:-//eventon.com NONSGML v1.0//EN
CALSCALE:GREGORIAN
METHOD:PUBLISH
BEGIN:VEVENT
UID:69e9cc731a54d
DTSTAMP:20260423T073827Z
DTSTART:20210705T210000Z
DTEND:20210706T105000Z
LOCATION:Saint-Maurice-en-Trièves Saint-Maurice-en-Trièves
SUMMARY:Cérémonies en Trièves
DESCRIPTION:Rendez-vous à suivre à 10h30 au col de Lus-la-Croix-haute.\nh
 ttps://www.vercors-resistance.fr/events/ceremonies-en-trieves/
URL:https://www.vercors-resistance.fr/events/ceremonies-en-trieves/
END:VEVENT
END:VCALENDAR