BEGIN:VCALENDAR
VERSION:2.0
PRODID:-//eventon.com NONSGML v1.0//EN
CALSCALE:GREGORIAN
METHOD:PUBLISH
BEGIN:VEVENT
UID:69e744e3ae557
DTSTAMP:20260421T093531Z
DTSTART:20240406T110000Z
DTEND:20240406T110000Z
LOCATION:
SUMMARY:Assemblée générale à Romans
DESCRIPTION:\nhttps://www.vercors-resistance.fr/events/8349/
URL:https://www.vercors-resistance.fr/events/8349/
END:VEVENT
END:VCALENDAR