BEGIN:VCALENDAR
VERSION:2.0
PRODID:-//eventon.com NONSGML v1.0//EN
CALSCALE:GREGORIAN
METHOD:PUBLISH
BEGIN:VEVENT
UID:69e53416d591a
DTSTAMP:20260419T195918Z
DTSTART:20240501T210000Z
DTEND:20240502T105000Z
LOCATION:Monestier-de-Clermont Monestier-de-Clermont\,  38650
SUMMARY:Hommage à Jacques Molle
DESCRIPTION:\nhttps://www.vercors-resistance.fr/events/hommage-a-jacques-mo
 lle/
URL:https://www.vercors-resistance.fr/events/hommage-a-jacques-molle/
END:VEVENT
END:VCALENDAR