BEGIN:VCALENDAR
VERSION:2.0
PRODID:-//eventon.com NONSGML v1.0//EN
CALSCALE:GREGORIAN
METHOD:PUBLISH
BEGIN:VEVENT
UID:69e4e0afe9e59
DTSTAMP:20260419T140327Z
DTSTART:20240613T200000Z
DTEND:20240614T105000Z
LOCATION:Nécropole de Saint-Nizier-du-Moucherotte Saint-Nizier-du-Moucherotte
SUMMARY:Commémorations des combats du Vercors Nord
DESCRIPTION:\nhttps://www.vercors-resistance.fr/events/commemorations-des-c
 ombats-du-vercors-nord/
URL:https://www.vercors-resistance.fr/events/commemorations-des-combats-du-vercors-nord/
END:VEVENT
END:VCALENDAR