BEGIN:VCALENDAR
VERSION:2.0
PRODID:-//eventon.com NONSGML v1.0//EN
CALSCALE:GREGORIAN
METHOD:PUBLISH
BEGIN:VEVENT
UID:69e4e2fc5f3d6
DTSTAMP:20260419T141316Z
DTSTART:20240705T000000Z
DTEND:20240705T105000Z
LOCATION:La Pierre
SUMMARY:Cérémonies des pas de l'Est
DESCRIPTION:\nhttps://www.vercors-resistance.fr/events/ceremonies-des-pas-d
 e-lest-5/
URL:https://www.vercors-resistance.fr/events/ceremonies-des-pas-de-lest-5/
END:VEVENT
END:VCALENDAR