BEGIN:VCALENDAR
VERSION:2.0
PRODID:-//eventon.com NONSGML v1.0//EN
CALSCALE:GREGORIAN
METHOD:PUBLISH
BEGIN:VEVENT
UID:69e8bb829a282
DTSTAMP:20260422T121354Z
DTSTART:20240706T110000Z
DTEND:20240707T105000Z
LOCATION:Saint-Thomas-en-Royans
SUMMARY:Tour des stèles
DESCRIPTION:\nhttps://www.vercors-resistance.fr/events/tour-des-steles/
URL:https://www.vercors-resistance.fr/events/tour-des-steles/
END:VEVENT
END:VCALENDAR