BEGIN:VCALENDAR
VERSION:2.0
PRODID:-//eventon.com NONSGML v1.0//EN
CALSCALE:GREGORIAN
METHOD:PUBLISH
BEGIN:VEVENT
UID:69e5f711b82f9
DTSTAMP:20260420T095113Z
DTSTART:20240720T201500Z
DTEND:20240721T105000Z
LOCATION:Pas de l&#039;Aiguille
SUMMARY:Cérémonies du pas de l'Aiguille
DESCRIPTION:\nhttps://www.vercors-resistance.fr/events/ceremonies-du-pas-de
 -laiguille/
URL:https://www.vercors-resistance.fr/events/ceremonies-du-pas-de-laiguille/
END:VEVENT
END:VCALENDAR