BEGIN:VCALENDAR
VERSION:2.0
PRODID:-//eventon.com NONSGML v1.0//EN
CALSCALE:GREGORIAN
METHOD:PUBLISH
BEGIN:VEVENT
UID:69e74390e32ce
DTSTAMP:20260421T092952Z
DTSTART:20240721T110000Z
DTEND:20240722T105000Z
LOCATION:Grotte de la Luire Saint-Agnan
SUMMARY:Commémoration des combats du Vercors
DESCRIPTION:\nhttps://www.vercors-resistance.fr/events/commemoration-des-co
 mbats-du-vercors/
URL:https://www.vercors-resistance.fr/events/commemoration-des-combats-du-vercors/
END:VEVENT
END:VCALENDAR